BEGIN:VCALENDAR
VERSION:2.0
PRODID:-//hacksw/handcal//NONSGML v1.0//EN
BEGIN:VEVENT
SUMMARY:Seance Piste
UID:09de219c-c3c3-4f77-85dc-1d5087dea6b3
DTSTART:20260415T163000Z
DTEND:20260415T180000Z
LOCATION:Localisation Piste Fort-Carre 06600 Antibes
CATEGORIES:Sportif
STATUS:
URL;VALUE=URI:https://www.antibesrunningflow.fr/evenements/2026/04/15/seance-piste-2434753
END:VEVENT
END:VCALENDAR
