BEGIN:VCALENDAR
VERSION:2.0
PRODID:-//hacksw/handcal//NONSGML v1.0//EN
BEGIN:VEVENT
SUMMARY:Resultats du 19 avril 2026
UID:58ccd496-0c1b-495f-9b79-dd73555e3e54
DTSTART:20260418T220000Z
DTEND:20260419T220000Z
LOCATION:Localisation   
CATEGORIES:Sportif
STATUS:
URL;VALUE=URI:https://www.antibesrunningflow.fr/evenements/2026/04/19/resultats-du-19-avril-2026-2442784
END:VEVENT
END:VCALENDAR
